BEGIN:VCALENDAR
VERSION:2.0
PRODID:-//hacksw/handcal//NONSGML v1.0//EN
BEGIN:VEVENT
SUMMARY:Ronde de France
UID:b066abec-e844-49bf-93cb-832a6a70202c
DTSTART:20260402T120000Z
DTEND:20260402T160000Z
LOCATION:Localisation   
CATEGORIES:Sportif
STATUS:
DESCRIPTION:<p>Debut de tournoi : 14:15</p>
 
 <p>Arbitre
 : </p>
 
 <p> </p>
URL;VALUE=URI:https://www.bridgeclubsaintjunien.fr/evenements/2026/04/02/ronde-de-france-2436602
END:VEVENT
END:VCALENDAR
