BEGIN:VCALENDAR
VERSION:2.0
PRODID:-//hacksw/handcal//NONSGML v1.0//EN
BEGIN:VEVENT
SUMMARY:LES DIMANCHES DE SAINT-JUNIEN
UID:d79493c3-c3e2-4905-a382-3a790b8a03a9
DTSTART:20260405T150000Z
DTEND:20260405T170000Z
LOCATION:Localisation   
CATEGORIES:Sportif
STATUS:
DESCRIPTION:<p>Sur REALBRIDGE </p>
 
 <p> Arbitre : </p>
URL;VALUE=URI:https://www.bridgeclubsaintjunien.fr/evenements/2026/04/05/les-dimanches-de-saint-junien-2436586
END:VEVENT
END:VCALENDAR
