BEGIN:VCALENDAR
VERSION:2.0
PRODID:-//hacksw/handcal//NONSGML v1.0//EN
BEGIN:VEVENT
SUMMARY:Pas de tournoi (jour ferie)
UID:45d73340-a147-4346-8fea-4275c0899892
DTSTART:20260406T120000Z
DTEND:20260406T160000Z
LOCATION:Localisation   
CATEGORIES:Sportif
STATUS:
DESCRIPTION:<p>Debut de tournoi : 14:15</p>
 
 <p>Arbitre
 : </p>
 
 <p> </p>
URL;VALUE=URI:https://www.bridgeclubsaintjunien.fr/evenements/2026/04/06/pas-de-tournoi-jour-ferie-2419387
END:VEVENT
END:VCALENDAR
