BEGIN:VCALENDAR
VERSION:2.0
PRODID:-//hacksw/handcal//NONSGML v1.0//EN
BEGIN:VEVENT
SUMMARY:Bridge a Confolens (Chez Bruno)
UID:ea999ea7-754b-4372-b1eb-c053af0f3922
DTSTART:20260410T001500Z
DTEND:20260410T033000Z
LOCATION:Localisation Chateau Guyon  Esse
CATEGORIES:Sportif
STATUS:
DESCRIPTION:<p>Un apres-midi de bridge decontracte . On joue les
 donnes prepare dans un esprit pedagogique</p>
 
 <p>Pendant les
 vacances scolaires, quand le centre est ferme, on se deplace (chez
 Clare ou .....)</p>
 
 <p> </p>
URL;VALUE=URI:https://www.bridgeclubsaintjunien.fr/evenements/2026/04/10/bridge-a-confolens-chez-bruno-2419253
END:VEVENT
END:VCALENDAR
