BEGIN:VCALENDAR
VERSION:2.0
PRODID:-//hacksw/handcal//NONSGML v1.0//EN
BEGIN:VEVENT
SUMMARY:LES DIMANCHES DE SAINT-JUNIEN
UID:e006f0e9-de83-40f1-bd33-f0aa32fe6027
DTSTART:20260412T150000Z
DTEND:20260412T170000Z
LOCATION:Localisation   
CATEGORIES:Sportif
STATUS:
DESCRIPTION:<p>Sur REALBRIDGE </p>
 
 <p> Arbitre : John</p>
URL;VALUE=URI:https://www.bridgeclubsaintjunien.fr/evenements/2026/04/12/les-dimanches-de-saint-junien-2436599
END:VEVENT
END:VCALENDAR
