BEGIN:VCALENDAR
VERSION:2.0
PRODID:-//hacksw/handcal//NONSGML v1.0//EN
BEGIN:VEVENT
SUMMARY:Tournoi Court (19h)
UID:5c6df7bf-b790-416a-8ed1-544e1602dd40
DTSTART:20260413T170000Z
DTEND:20260413T193000Z
LOCATION:Localisation   
CATEGORIES:Sportif
STATUS:
DESCRIPTION:<p>Tous les 2 semaines</p>
 
 <p>Tournoi douce de 14-15
 donnes precede par un casse-croute</p>
 
 <p> </p>
URL;VALUE=URI:https://www.bridgeclubsaintjunien.fr/evenements/2026/04/13/tournoi-court-19h-2436610
END:VEVENT
END:VCALENDAR
