BEGIN:VCALENDAR
VERSION:2.0
PRODID:-//hacksw/handcal//NONSGML v1.0//EN
BEGIN:VEVENT
SUMMARY:Bridge a Confolens (Chez Bruno)
UID:a9caf841-31ab-4024-bbad-71a94ce187c4
DTSTART:20260417T120000Z
DTEND:20260417T150000Z
LOCATION:Localisation Chateau Guyon  Esse
CATEGORIES:Sportif
STATUS:
DESCRIPTION:<p>Un apres-midi de bridge decontracte . On joue les
 donnes prepare dans un esprit pedagogique</p>
 
 <p>Pendant les
 vacances scolaires, quand le centre est ferme, on se deplace (chez
 Clare ou .....)</p>
 
 <p> </p>
URL;VALUE=URI:https://www.bridgeclubsaintjunien.fr/evenements/2026/04/17/bridge-a-confolens-chez-bruno-2436752
END:VEVENT
END:VCALENDAR
